BEGIN:VCALENDAR
VERSION:2.0
PRODID:-//Plone.org//NONSGML plone.app.event//EN
X-WR-TIMEZONE:America/Sao_Paulo
BEGIN:VEVENT
SUMMARY:3° Workshop do Programa de Pós-graduação em Biocombustíveis
DTSTART;VALUE=DATE:20230921
DTEND;VALUE=DATE:20230923
DTSTAMP;VALUE=DATE-TIME:20260422T080517Z
UID:cbc20e2237cf4b338352581b6f3d9aa8@portal.ufvjm.edu.br
CONTACT:https://www.even3.com.br/iii-workshop-do-programa-de-pos-graduacao
 -em-biocombustiveis-ufvjm-ufu-354370/
CREATED;VALUE=DATE-TIME:20230912T114907Z
DESCRIPTION:21 e 22 de setembro de 2023
LAST-MODIFIED;VALUE=DATE-TIME:20250402T174935Z
LOCATION:Campus JK - Diamantina/MG
URL:https://portal.ufvjm.edu.br/agendas/eventos/2023/3-workshop-do-program
 a-de-pos-graduacao-em-biocombustiveis
END:VEVENT
END:VCALENDAR
