BEGIN:VCALENDAR
VERSION:2.0
PRODID:-//Plone.org//NONSGML plone.app.event//EN
X-WR-TIMEZONE:America/Sao_Paulo
BEGIN:VEVENT
SUMMARY:2º Simpósio de Ciência e Tecnologia de Alimentos
DTSTART;VALUE=DATE:20230704
DTEND;VALUE=DATE:20230707
DTSTAMP;VALUE=DATE-TIME:20260423T234252Z
UID:0a1427ae107e4316a42ce1786c379e58@portal.ufvjm.edu.br
CONTACT:https://www.even3.com.br/ii-simposio-de-ciencia-e-tecnologia-de-al
 imentos-325407/
CREATED;VALUE=DATE-TIME:20230427T113339Z
DESCRIPTION:4 a 6 de julho
LAST-MODIFIED;VALUE=DATE-TIME:20250402T174903Z
LOCATION:Evento on-line
URL:https://portal.ufvjm.edu.br/agendas/eventos/2023/2-simposio-de-ciencia
 -e-tecnologia-de-alimentos
END:VEVENT
END:VCALENDAR
