BEGIN:VCALENDAR
VERSION:2.0
PRODID:-//Plone.org//NONSGML plone.app.event//EN
X-WR-TIMEZONE:America/Sao_Paulo
BEGIN:VEVENT
SUMMARY:2º Seminário Histórias em Redes: a cidade na trajetória de Mar
 ithê Azevedo
DTSTART;TZID=America/Sao_Paulo;VALUE=DATE-TIME:20231010T190000
DTSTAMP;VALUE=DATE-TIME:20260423T020227Z
UID:0b5250f5a3944187b57f22e4f6d7596b@portal.ufvjm.edu.br
CONTACT:https://forms.gle/cyZbG3hazNw6xers7
CREATED;VALUE=DATE-TIME:20231006T172609Z
DESCRIPTION:10 de outubro
LAST-MODIFIED;VALUE=DATE-TIME:20250402T174954Z
LOCATION:Ateliê do Choro - Rua das Mercês\, 318
URL:https://portal.ufvjm.edu.br/agendas/eventos/2023/2-seminario-historias
 -em-redes-a-cidade-na-trajetoria-de-marithe-azevedo
END:VEVENT
BEGIN:VTIMEZONE
TZID:America/Sao_Paulo
X-LIC-LOCATION:America/Sao_Paulo
BEGIN:STANDARD
DTSTART;VALUE=DATE-TIME:20230225T230000
TZNAME:BRT
TZOFFSETFROM:-0200
TZOFFSETTO:-0300
END:STANDARD
END:VTIMEZONE
END:VCALENDAR
