BEGIN:VCALENDAR
VERSION:2.0
PRODID:-//Plone.org//NONSGML plone.app.event//EN
X-WR-TIMEZONE:America/Sao_Paulo
BEGIN:VEVENT
SUMMARY:2º Economia e Sociedade em Debate - Relação entre capitalismo\,
  território e povos indígenas
DTSTART;VALUE=DATE:20231028
DTEND;VALUE=DATE:20231101
DTSTAMP;VALUE=DATE-TIME:20260424T232028Z
UID:5f6646d5bd2546f5bb1ca7c9dfe70e1b@portal.ufvjm.edu.br
CREATED;VALUE=DATE-TIME:20231026T195114Z
DESCRIPTION:28 a 31 de outubro
LAST-MODIFIED;VALUE=DATE-TIME:20250402T174957Z
LOCATION:Aldeia Escola-Floresta Maxakali e Campus do Mucuri - Teófilo Oto
 ni
URL:https://portal.ufvjm.edu.br/agendas/eventos/2023/2-economia-e-sociedad
 e-em-debate-relacao-entre-capitalismo-territorio-e-povos-indigenas
END:VEVENT
END:VCALENDAR
