BEGIN:VCALENDAR
VERSION:2.0
PRODID:-//Plone.org//NONSGML plone.app.event//EN
X-WR-TIMEZONE:America/Sao_Paulo
BEGIN:VEVENT
SUMMARY:2º Congresso Internacional de Odontologia de Diamantina
DTSTART;TZID=America/Sao_Paulo;VALUE=DATE-TIME:20231025T080000
DTEND;TZID=America/Sao_Paulo;VALUE=DATE-TIME:20231028T090000
DTSTAMP;VALUE=DATE-TIME:20260423T020247Z
UID:d0e8588249ed49f3bf78bfbb8ebdb886@portal.ufvjm.edu.br
CREATED;VALUE=DATE-TIME:20230808T114249Z
DESCRIPTION:25 a 28 de outubro
LAST-MODIFIED;VALUE=DATE-TIME:20250402T174924Z
LOCATION:Anfiteatro do Campus I - Diamantina/MG
URL:https://portal.ufvjm.edu.br/agendas/eventos/2023/2-congresso-internaci
 onal-de-odontologia-de-diamantina
END:VEVENT
BEGIN:VTIMEZONE
TZID:America/Sao_Paulo
X-LIC-LOCATION:America/Sao_Paulo
BEGIN:DAYLIGHT
DTSTART;VALUE=DATE-TIME:20231015T010000
TZNAME:BRST
TZOFFSETFROM:-0300
TZOFFSETTO:-0200
END:DAYLIGHT
END:VTIMEZONE
END:VCALENDAR
