BEGIN:VCALENDAR
VERSION:2.0
PRODID:-//Plone.org//NONSGML plone.app.event//EN
X-WR-TIMEZONE:America/Sao_Paulo
BEGIN:VEVENT
SUMMARY:2º Congresso de Ciências da Saúde da UFVJM
DTSTART;TZID=America/Sao_Paulo;VALUE=DATE-TIME:20231018T110000
DTEND;TZID=America/Sao_Paulo;VALUE=DATE-TIME:20231020T120000
DTSTAMP;VALUE=DATE-TIME:20260424T162825Z
UID:dc10e8b4f00d411cbbd1d9d5ecf0a6fc@portal.ufvjm.edu.br
CONTACT:www.even3.com.br/iiconcis
CREATED;VALUE=DATE-TIME:20230904T141325Z
DESCRIPTION:18 a 20 de outubro
LAST-MODIFIED;VALUE=DATE-TIME:20250402T174934Z
LOCATION:Campus I e Campus JK - Diamantina/MG
URL:https://portal.ufvjm.edu.br/agendas/eventos/2023/2-congresso-de-cienci
 as-da-saude-da-ufvjm
END:VEVENT
BEGIN:VTIMEZONE
TZID:America/Sao_Paulo
X-LIC-LOCATION:America/Sao_Paulo
BEGIN:DAYLIGHT
DTSTART;VALUE=DATE-TIME:20231015T010000
TZNAME:BRST
TZOFFSETFROM:-0300
TZOFFSETTO:-0200
END:DAYLIGHT
END:VTIMEZONE
END:VCALENDAR
