BEGIN:VCALENDAR
VERSION:2.0
PRODID:-//Plone.org//NONSGML plone.app.event//EN
X-WR-TIMEZONE:America/Sao_Paulo
BEGIN:VEVENT
SUMMARY:2º Ciclo de Debates Coletivo Acolhe UFVJM
DTSTART;VALUE=DATE:20231130
DTEND;VALUE=DATE:20231201
DTSTAMP;VALUE=DATE-TIME:20260423T130629Z
UID:dccd90dd7a3345bfbb573b9212e4e99c@portal.ufvjm.edu.br
CONTACT:https://meet.google.com/hvu-jsqp-bgp
CREATED;VALUE=DATE-TIME:20231127T194158Z
DESCRIPTION:30 de novembro de 2023
LAST-MODIFIED;VALUE=DATE-TIME:20250402T175007Z
LOCATION:Evento on-line
URL:https://portal.ufvjm.edu.br/agendas/eventos/2023/2-ciclo-de-debates-co
 letivo-acolhe-ufvjm
END:VEVENT
END:VCALENDAR
