BEGIN:VCALENDAR
VERSION:2.0
PRODID:-//Plone.org//NONSGML plone.app.event//EN
X-WR-TIMEZONE:America/Sao_Paulo
BEGIN:VEVENT
SUMMARY:1º Seminário Macrorregional Jequitinhonha de Hanseníase
DTSTART;TZID=America/Sao_Paulo;VALUE=DATE-TIME:20231123T080000
DTEND;TZID=America/Sao_Paulo;VALUE=DATE-TIME:20231123T170000
DTSTAMP;VALUE=DATE-TIME:20260423T020244Z
UID:14e7da5aa518457f862b9ad5e4e737b4@portal.ufvjm.edu.br
CONTACT:https://docs.google.com/forms/d/e/1FAIpQLSdY1qkTGDgE5MtD0SSQK2gZFZ
 0MzA02aI5lj5ubzTis1EwYqQ/viewform
CREATED;VALUE=DATE-TIME:20231116T213116Z
DESCRIPTION:23 de novembro
LAST-MODIFIED;VALUE=DATE-TIME:20250402T175003Z
LOCATION:Anfiteatro do Campus I da UFVJM
URL:https://portal.ufvjm.edu.br/agendas/eventos/2023/1-seminario-macrorreg
 ional-jequitinhonha-de-hanseniase
END:VEVENT
BEGIN:VTIMEZONE
TZID:America/Sao_Paulo
X-LIC-LOCATION:America/Sao_Paulo
BEGIN:DAYLIGHT
DTSTART;VALUE=DATE-TIME:20231015T010000
TZNAME:BRST
TZOFFSETFROM:-0300
TZOFFSETTO:-0200
END:DAYLIGHT
END:VTIMEZONE
END:VCALENDAR
