BEGIN:VCALENDAR
VERSION:2.0
PRODID:-//Plone.org//NONSGML plone.app.event//EN
X-WR-TIMEZONE:America/Sao_Paulo
BEGIN:VEVENT
SUMMARY:1º Jacubas's: Festival de Arco e Flecha UFVJM
DTSTART;TZID=America/Sao_Paulo;VALUE=DATE-TIME:20230627T100000
DTEND;TZID=America/Sao_Paulo;VALUE=DATE-TIME:20230627T120000
DTSTAMP;VALUE=DATE-TIME:20260423T173243Z
UID:421db79afcaf4d39a0b9b9db67a26a31@portal.ufvjm.edu.br
CREATED;VALUE=DATE-TIME:20230621T224436Z
DESCRIPTION:27 de junho
LAST-MODIFIED;VALUE=DATE-TIME:20250402T174912Z
LOCATION:Gramado ao lado do prédio da Educação Física - Campus JK
URL:https://portal.ufvjm.edu.br/agendas/eventos/2023/1-jacubass-festival-d
 e-arco-e-flecha-ufvjm
END:VEVENT
BEGIN:VTIMEZONE
TZID:America/Sao_Paulo
X-LIC-LOCATION:America/Sao_Paulo
BEGIN:STANDARD
DTSTART;VALUE=DATE-TIME:20230225T230000
TZNAME:BRT
TZOFFSETFROM:-0200
TZOFFSETTO:-0300
END:STANDARD
END:VTIMEZONE
END:VCALENDAR
