BEGIN:VCALENDAR
VERSION:2.0
PRODID:-//Plone.org//NONSGML plone.app.event//EN
X-WR-TIMEZONE:America/Sao_Paulo
BEGIN:VEVENT
SUMMARY:1º Ciclo de Debates Coletivo Acolhe UFVJM
DTSTART;TZID=America/Sao_Paulo;VALUE=DATE-TIME:20231108T180000
DTSTAMP;VALUE=DATE-TIME:20260423T043425Z
UID:4a24e0b3b454441b86361bf7b20035c5@portal.ufvjm.edu.br
CONTACT:https://meet.google.com/hvu-jsqp-bgp
CREATED;VALUE=DATE-TIME:20231108T171851Z
DESCRIPTION:8 de novembro
LAST-MODIFIED;VALUE=DATE-TIME:20250402T175002Z
LOCATION:Evento on-line
URL:https://portal.ufvjm.edu.br/agendas/eventos/2023/1-ciclo-de-debates-co
 letivo-acolhe-ufvjm
END:VEVENT
BEGIN:VTIMEZONE
TZID:America/Sao_Paulo
X-LIC-LOCATION:America/Sao_Paulo
BEGIN:DAYLIGHT
DTSTART;VALUE=DATE-TIME:20231015T010000
TZNAME:BRST
TZOFFSETFROM:-0300
TZOFFSETTO:-0200
END:DAYLIGHT
END:VTIMEZONE
END:VCALENDAR
