BEGIN:VCALENDAR
VERSION:2.0
PRODID:-//Plone.org//NONSGML plone.app.event//EN
X-WR-TIMEZONE:America/Sao_Paulo
BEGIN:VEVENT
SUMMARY:1º Ciclo de Comunicações em Linguística Aplicada
DTSTART;TZID=America/Sao_Paulo;VALUE=DATE-TIME:20230713T190000
DTSTAMP;VALUE=DATE-TIME:20260423T202352Z
UID:76a854fa6a354fb6a9e9204d443ab7eb@portal.ufvjm.edu.br
CONTACT:https://forms.gle/oH5P2GsGZAP3DiEd8
CREATED;VALUE=DATE-TIME:20230710T143020Z
DESCRIPTION:13 de julho
LAST-MODIFIED;VALUE=DATE-TIME:20250402T174916Z
LOCATION:Espaço BHu - Campus JK
URL:https://portal.ufvjm.edu.br/agendas/eventos/2023/1-ciclo-de-comunicaco
 es-em-linguistica-aplicada
END:VEVENT
BEGIN:VTIMEZONE
TZID:America/Sao_Paulo
X-LIC-LOCATION:America/Sao_Paulo
BEGIN:STANDARD
DTSTART;VALUE=DATE-TIME:20230225T230000
TZNAME:BRT
TZOFFSETFROM:-0200
TZOFFSETTO:-0300
END:STANDARD
END:VTIMEZONE
END:VCALENDAR
