BEGIN:VCALENDAR
VERSION:2.0
PRODID:-//Plone.org//NONSGML plone.app.event//EN
X-WR-TIMEZONE:America/Sao_Paulo
BEGIN:VEVENT
SUMMARY:Study in Japan
DTSTART;TZID=America/Sao_Paulo;VALUE=DATE-TIME:20221024T103000
DTEND;TZID=America/Sao_Paulo;VALUE=DATE-TIME:20221024T120000
DTSTAMP;VALUE=DATE-TIME:20260423T145917Z
UID:1a8162041ce74fae91aa8b95f44ba199@portal.ufvjm.edu.br
CREATED;VALUE=DATE-TIME:20221020T130736Z
DESCRIPTION:24 de outubro
LAST-MODIFIED;VALUE=DATE-TIME:20250402T175505Z
LOCATION:Auditório da Reitoria - Campus JK\, em Diamantina.
URL:https://portal.ufvjm.edu.br/agendas/eventos/2022/study-in-japan
END:VEVENT
BEGIN:VTIMEZONE
TZID:America/Sao_Paulo
X-LIC-LOCATION:America/Sao_Paulo
BEGIN:DAYLIGHT
DTSTART;VALUE=DATE-TIME:20221016T010000
TZNAME:BRST
TZOFFSETFROM:-0300
TZOFFSETTO:-0200
END:DAYLIGHT
END:VTIMEZONE
END:VCALENDAR
