BEGIN:VCALENDAR
VERSION:2.0
PRODID:-//Plone.org//NONSGML plone.app.event//EN
X-WR-TIMEZONE:America/Sao_Paulo
BEGIN:VEVENT
SUMMARY:Simpósio Brasileiro sobre Fatores Humanos em Sistemas Computacion
 ais
DTSTART;VALUE=DATE:20221017
DTEND;VALUE=DATE:20221022
DTSTAMP;VALUE=DATE-TIME:20260423T214027Z
UID:a0e8701995024bcd96506a524fd3f02d@portal.ufvjm.edu.br
CONTACT:http://ihc.sbc.org.br/
CREATED;VALUE=DATE-TIME:20221014T165940Z
DESCRIPTION:17 a 21 de outubro
LAST-MODIFIED;VALUE=DATE-TIME:20250402T175451Z
LOCATION:Campus I - Diamantina/MG
URL:https://portal.ufvjm.edu.br/agendas/eventos/2022/simposio-brasileiro-s
 obre-fatores-humanos-em-sistemas-computacionais
END:VEVENT
END:VCALENDAR
