BEGIN:VCALENDAR
VERSION:2.0
PRODID:-//Plone.org//NONSGML plone.app.event//EN
X-WR-TIMEZONE:America/Sao_Paulo
BEGIN:VEVENT
SUMMARY:Recepção de calouros 2022/1
DTSTART;TZID=America/Sao_Paulo;VALUE=DATE-TIME:20221010T113000
DTSTAMP;VALUE=DATE-TIME:20260423T072303Z
UID:9c3ebc33c8d34fdb801af376caf75721@portal.ufvjm.edu.br
CONTACT:https://youtu.be/2ZDlnr7nS7I
CREATED;VALUE=DATE-TIME:20221004T124415Z
DESCRIPTION:10 de outubro
LAST-MODIFIED;VALUE=DATE-TIME:20250402T175445Z
LOCATION:Auditório da Reitoria - Campus JK\, Diamantina
URL:https://portal.ufvjm.edu.br/agendas/eventos/2022/recepcao-de-calouros-
 2022-1
END:VEVENT
BEGIN:VTIMEZONE
TZID:America/Sao_Paulo
X-LIC-LOCATION:America/Sao_Paulo
BEGIN:STANDARD
DTSTART;VALUE=DATE-TIME:20220219T230000
TZNAME:BRT
TZOFFSETFROM:-0200
TZOFFSETTO:-0300
END:STANDARD
END:VTIMEZONE
END:VCALENDAR
