BEGIN:VCALENDAR
VERSION:2.0
PRODID:-//Plone.org//NONSGML plone.app.event//EN
X-WR-TIMEZONE:America/Sao_Paulo
BEGIN:VEVENT
SUMMARY:Palestra Gestão esportiva e SAF: a experiência do Cruzeiro EC
DTSTART;TZID=America/Sao_Paulo;VALUE=DATE-TIME:20220704T100000
DTEND;TZID=America/Sao_Paulo;VALUE=DATE-TIME:20220704T120000
DTSTAMP;VALUE=DATE-TIME:20260423T165827Z
UID:9969defb178d4dfe88d18133d76910c4@portal.ufvjm.edu.br
CREATED;VALUE=DATE-TIME:20220629T145940Z
DESCRIPTION:4 de julho
LAST-MODIFIED;VALUE=DATE-TIME:20250402T175330Z
LOCATION:Auditório do Departamento de Educação Física
URL:https://portal.ufvjm.edu.br/agendas/eventos/2022/palestra-gestao-espor
 tiva-e-saf-a-experiencia-do-cruzeiro-ec
END:VEVENT
BEGIN:VTIMEZONE
TZID:America/Sao_Paulo
X-LIC-LOCATION:America/Sao_Paulo
BEGIN:STANDARD
DTSTART;VALUE=DATE-TIME:20220219T230000
TZNAME:BRT
TZOFFSETFROM:-0200
TZOFFSETTO:-0300
END:STANDARD
END:VTIMEZONE
END:VCALENDAR
