BEGIN:VCALENDAR
VERSION:2.0
PRODID:-//Plone.org//NONSGML plone.app.event//EN
X-WR-TIMEZONE:America/Sao_Paulo
BEGIN:VEVENT
SUMMARY:Entardecer Cultural
DTSTART;TZID=America/Sao_Paulo;VALUE=DATE-TIME:20220708T160000
DTEND;TZID=America/Sao_Paulo;VALUE=DATE-TIME:20220708T190000
DTSTAMP;VALUE=DATE-TIME:20260424T211515Z
UID:03e6782f461b4a74a5a6a9f60d30aa06@portal.ufvjm.edu.br
CREATED;VALUE=DATE-TIME:20220707T182704Z
DESCRIPTION:8 de julho
LAST-MODIFIED;VALUE=DATE-TIME:20250402T175337Z
LOCATION:Centro de Convivência - Campus JK
URL:https://portal.ufvjm.edu.br/agendas/eventos/2022/entardecer-cultural
END:VEVENT
BEGIN:VTIMEZONE
TZID:America/Sao_Paulo
X-LIC-LOCATION:America/Sao_Paulo
BEGIN:STANDARD
DTSTART;VALUE=DATE-TIME:20220219T230000
TZNAME:BRT
TZOFFSETFROM:-0200
TZOFFSETTO:-0300
END:STANDARD
END:VTIMEZONE
END:VCALENDAR
