BEGIN:VCALENDAR
VERSION:2.0
PRODID:-//Plone.org//NONSGML plone.app.event//EN
X-WR-TIMEZONE:America/Sao_Paulo
BEGIN:VEVENT
SUMMARY:Encontro Interinstitucional de Línguas Estrangeiras - EILEx
DTSTART;VALUE=DATE:20221122
DTEND;VALUE=DATE:20221127
DTSTAMP;VALUE=DATE-TIME:20260423T102521Z
UID:4a80aa9e475f43f188327eba9d768876@portal.ufvjm.edu.br
CREATED;VALUE=DATE-TIME:20221122T120627Z
DESCRIPTION:22 a 26 de novembro
LAST-MODIFIED;VALUE=DATE-TIME:20250402T175533Z
LOCATION:Campus JK em Diamantina
URL:https://portal.ufvjm.edu.br/agendas/eventos/2022/encontro-interinstitu
 cional-de-linguas-estrangeiras-eilex
END:VEVENT
END:VCALENDAR
