BEGIN:VCALENDAR
VERSION:2.0
PRODID:-//Plone.org//NONSGML plone.app.event//EN
X-WR-TIMEZONE:America/Sao_Paulo
BEGIN:VEVENT
SUMMARY:Curso on-line Criando um Podcast do Zero - 2ª edição
DTSTART;VALUE=DATE:20221102
DTEND;VALUE=DATE:20221117
DTSTAMP;VALUE=DATE-TIME:20260424T033233Z
UID:8fc88af903f94c06a6e5ba46994492ed@portal.ufvjm.edu.br
CONTACT:https://forms.gle/n4a9CybEFe3KtQt28
CREATED;VALUE=DATE-TIME:20221024T195046Z
DESCRIPTION:2 a 16 de novembro
LAST-MODIFIED;VALUE=DATE-TIME:20250402T175511Z
LOCATION:Evento on-line
URL:https://portal.ufvjm.edu.br/agendas/eventos/2022/curso-online-criando-
 um-podcast-do-zero-2-edicao
END:VEVENT
END:VCALENDAR
