BEGIN:VCALENDAR
VERSION:2.0
PRODID:-//Plone.org//NONSGML plone.app.event//EN
X-WR-TIMEZONE:America/Sao_Paulo
BEGIN:VEVENT
SUMMARY:Curso on-line Horta Urbana para Iniciantes
DTSTART;VALUE=DATE:20221024
DTEND;VALUE=DATE:20221216
DTSTAMP;VALUE=DATE-TIME:20260423T152731Z
UID:2d5e3c2d97674247a3f5a6199f474ed6@portal.ufvjm.edu.br
CONTACT:https://docs.google.com/forms/d/16oHh6I8Zlq3GLtFiFI_AT5mhAoMbmpul1
 M4rhRZ5q5I/edit?ts=6345e68e
CREATED;VALUE=DATE-TIME:20221019T181709Z
DESCRIPTION:24 de outubro a 15 de dezembro
LAST-MODIFIED;VALUE=DATE-TIME:20250402T175503Z
LOCATION:Evento on-line
URL:https://portal.ufvjm.edu.br/agendas/eventos/2022/curso-on-line-horta-u
 rbana-para-iniciantes
END:VEVENT
END:VCALENDAR
