BEGIN:VCALENDAR
VERSION:2.0
PRODID:-//Plone.org//NONSGML plone.app.event//EN
X-WR-TIMEZONE:America/Sao_Paulo
BEGIN:VEVENT
SUMMARY:Análise do orçamento e da Matriz OCC da UFVJM de 2019
DTSTART;TZID=America/Sao_Paulo;VALUE=DATE-TIME:20221021T080000
DTEND;TZID=America/Sao_Paulo;VALUE=DATE-TIME:20221021T093000
DTSTAMP;VALUE=DATE-TIME:20260423T213015Z
UID:17b0408d5f614fbf96076014ea2573fd@portal.ufvjm.edu.br
CONTACT:https://www.youtube.com/results?search_query=ufvjm+oficial
CREATED;VALUE=DATE-TIME:20221020T182426Z
DESCRIPTION:21 de outubro
LAST-MODIFIED;VALUE=DATE-TIME:20250402T175508Z
LOCATION:Auditório da Reitoria - Campus JK\, em Diamantina
URL:https://portal.ufvjm.edu.br/agendas/eventos/2022/analise-do-orcamento-
 e-da-matriz-occ-da-ufvjm-de-2019
END:VEVENT
BEGIN:VTIMEZONE
TZID:America/Sao_Paulo
X-LIC-LOCATION:America/Sao_Paulo
BEGIN:DAYLIGHT
DTSTART;VALUE=DATE-TIME:20221016T010000
TZNAME:BRST
TZOFFSETFROM:-0300
TZOFFSETTO:-0200
END:DAYLIGHT
END:VTIMEZONE
END:VCALENDAR
