BEGIN:VCALENDAR
VERSION:2.0
PRODID:-//Plone.org//NONSGML plone.app.event//EN
X-WR-TIMEZONE:America/Sao_Paulo
BEGIN:VEVENT
SUMMARY:Abertura oficial dos programas de iniciação à docência da UFVJ
 M
DTSTART;TZID=America/Sao_Paulo;VALUE=DATE-TIME:20221130T140000
DTEND;TZID=America/Sao_Paulo;VALUE=DATE-TIME:20221130T180000
DTSTAMP;VALUE=DATE-TIME:20260423T102732Z
UID:af08e180f3ab4713b273709abce0b2ac@portal.ufvjm.edu.br
CONTACT:www.even3.com.br/streaming/aula-de-abertura-pibid-rp-ufvjm
CREATED;VALUE=DATE-TIME:20221129T223551Z
DESCRIPTION:30 de novembro
LAST-MODIFIED;VALUE=DATE-TIME:20250402T175534Z
LOCATION:Evento on-line
URL:https://portal.ufvjm.edu.br/agendas/eventos/2022/abertura-oficial-dos-
 programas-de-iniciacao-a-docencia-da-ufvjm
END:VEVENT
BEGIN:VTIMEZONE
TZID:America/Sao_Paulo
X-LIC-LOCATION:America/Sao_Paulo
BEGIN:DAYLIGHT
DTSTART;VALUE=DATE-TIME:20221016T010000
TZNAME:BRST
TZOFFSETFROM:-0300
TZOFFSETTO:-0200
END:DAYLIGHT
END:VTIMEZONE
END:VCALENDAR
