BEGIN:VCALENDAR
VERSION:2.0
PRODID:-//Plone.org//NONSGML plone.app.event//EN
X-WR-TIMEZONE:America/Sao_Paulo
BEGIN:VEVENT
SUMMARY:6º Congresso de Inovação e Metodologias no Ensino Superior e Te
 cnológico
DTSTART;VALUE=DATE:20221121
DTEND;VALUE=DATE:20221126
DTSTAMP;VALUE=DATE-TIME:20260423T081812Z
UID:8ace5e3cf22844bdaf040183fc091ba7@portal.ufvjm.edu.br
CONTACT:https://www.even3.com.br/vicim2022
CREATED;VALUE=DATE-TIME:20220209T161411Z
DESCRIPTION:21 a 25 de novembro
LAST-MODIFIED;VALUE=DATE-TIME:20250402T175227Z
LOCATION:Evento on-line
URL:https://portal.ufvjm.edu.br/agendas/eventos/2022/6-congresso-de-inovac
 ao-e-metodologias-no-ensino-superior-e-tecnologico
END:VEVENT
END:VCALENDAR
