BEGIN:VCALENDAR
VERSION:2.0
PRODID:-//Plone.org//NONSGML plone.app.event//EN
X-WR-TIMEZONE:America/Sao_Paulo
BEGIN:VEVENT
SUMMARY:5ª Semana da Engenharia do Campus do Mucuri
DTSTART;VALUE=DATE:20221121
DTEND;VALUE=DATE:20221126
DTSTAMP;VALUE=DATE-TIME:20260423T014315Z
UID:ad3f812d08734c828c0a54e00e928195@portal.ufvjm.edu.br
CONTACT:https://www.sengenufvjm.com/
CREATED;VALUE=DATE-TIME:20221111T145653Z
DESCRIPTION:21 a 25 de novembro
LAST-MODIFIED;VALUE=DATE-TIME:20250402T175517Z
LOCATION:Campus Teófilo Otoni
URL:https://portal.ufvjm.edu.br/agendas/eventos/2022/5-semana-da-engenhari
 a-do-campus-do-mucuri
END:VEVENT
END:VCALENDAR
