BEGIN:VCALENDAR
VERSION:2.0
PRODID:-//Plone.org//NONSGML plone.app.event//EN
X-WR-TIMEZONE:America/Sao_Paulo
BEGIN:VEVENT
SUMMARY:3º módulo do Encontro de Saberes 2022 - Encantarias do Vale do J
 equi
DTSTART;VALUE=DATE:20221128
DTEND;VALUE=DATE:20221201
DTSTAMP;VALUE=DATE-TIME:20260423T081202Z
UID:f8543b4709414ad2b9fad0e04512dc1d@portal.ufvjm.edu.br
CREATED;VALUE=DATE-TIME:20221121T205249Z
DESCRIPTION:28 a 30 de novembro
LAST-MODIFIED;VALUE=DATE-TIME:20250402T175531Z
LOCATION:Ágora do Centro de Estudos de Humanidades/FIH - Campus JK
URL:https://portal.ufvjm.edu.br/agendas/eventos/2022/3-modulo-do-encontro-
 de-saberes-2022-encantarias-do-vale-do-jequi
END:VEVENT
END:VCALENDAR
