BEGIN:VCALENDAR
VERSION:2.0
PRODID:-//Plone.org//NONSGML plone.app.event//EN
X-WR-TIMEZONE:America/Sao_Paulo
BEGIN:VEVENT
SUMMARY:2ª Semana de Políticas Públicas
DTSTART;VALUE=DATE:20221129
DTEND;VALUE=DATE:20221202
DTSTAMP;VALUE=DATE-TIME:20260423T220756Z
UID:a621c14cfed8410aa2349b75542f8ff0@portal.ufvjm.edu.br
CREATED;VALUE=DATE-TIME:20221128T175003Z
DESCRIPTION:29 de novembro a 1º de dezembro
LAST-MODIFIED;VALUE=DATE-TIME:20250402T175534Z
LOCATION:Ágora do Centro de Estudos de Humanidades/FIH - Campus JK
URL:https://portal.ufvjm.edu.br/agendas/eventos/2022/2-semana-de-politicas
 -publicas
END:VEVENT
END:VCALENDAR
