BEGIN:VCALENDAR
VERSION:2.0
PRODID:-//Plone.org//NONSGML plone.app.event//EN
X-WR-TIMEZONE:America/Sao_Paulo
BEGIN:VEVENT
SUMMARY:2ª Semana das Engenharias da UFVJM
DTSTART;TZID=America/Sao_Paulo;VALUE=DATE-TIME:20221107T080000
DTEND;TZID=America/Sao_Paulo;VALUE=DATE-TIME:20221111T173000
DTSTAMP;VALUE=DATE-TIME:20260423T184141Z
UID:74c586fcb2fc466db7a559684f45e554@portal.ufvjm.edu.br
CONTACT:https://www.even3.com.br/ii-semeng/
CREATED;VALUE=DATE-TIME:20221011T140222Z
DESCRIPTION:7 a 11 de novembro
LAST-MODIFIED;VALUE=DATE-TIME:20250402T175448Z
LOCATION:Campus Janaúba
URL:https://portal.ufvjm.edu.br/agendas/eventos/2022/2-semana-das-engenhar
 ias-da-ufvjm
END:VEVENT
BEGIN:VTIMEZONE
TZID:America/Sao_Paulo
X-LIC-LOCATION:America/Sao_Paulo
BEGIN:DAYLIGHT
DTSTART;VALUE=DATE-TIME:20221016T010000
TZNAME:BRST
TZOFFSETFROM:-0300
TZOFFSETTO:-0200
END:DAYLIGHT
END:VTIMEZONE
END:VCALENDAR
