BEGIN:VCALENDAR
VERSION:2.0
PRODID:-//Plone.org//NONSGML plone.app.event//EN
X-WR-TIMEZONE:America/Sao_Paulo
BEGIN:VEVENT
SUMMARY:2º módulo da disciplina Encantarias do Vale do Jequi
DTSTART;VALUE=DATE:20221110
DTEND;VALUE=DATE:20221115
DTSTAMP;VALUE=DATE-TIME:20260423T000634Z
UID:58ec27371cf043e7a4f88f7b77badbba@portal.ufvjm.edu.br
CONTACT:https://docs.google.com/forms/d/e/1FAIpQLSc-3_mKJWCnYZDvnPd6IklouZ
 nMxpJmmNNuIMluX7orl4uDuw/viewform?vc=0&c=0&w=1&flr=0
CREATED;VALUE=DATE-TIME:20221108T192643Z
DESCRIPTION:10 a 14 de novembro
LAST-MODIFIED;VALUE=DATE-TIME:20250402T175515Z
LOCATION:Ágora do Centro de Estudos de Humanidades/FIH - Campus JK
URL:https://portal.ufvjm.edu.br/agendas/eventos/2022/2-modulo-da-disciplin
 a-encantarias-do-vale-do-jequi
END:VEVENT
END:VCALENDAR
