BEGIN:VCALENDAR
VERSION:2.0
PRODID:-//Plone.org//NONSGML plone.app.event//EN
X-WR-TIMEZONE:America/Sao_Paulo
BEGIN:VEVENT
SUMMARY:19ª Semana Nacional de Ciência e Tecnologia
DTSTART;VALUE=DATE:20221025
DTEND;VALUE=DATE:20221028
DTSTAMP;VALUE=DATE-TIME:20260423T152654Z
UID:8f43b24531524122a64c9702ccbefd42@portal.ufvjm.edu.br
CONTACT:https://www.even3.com.br/snct2022_diamantina/
CREATED;VALUE=DATE-TIME:20221018T193949Z
DESCRIPTION:25 a 27 de outubro
LAST-MODIFIED;VALUE=DATE-TIME:20250402T175458Z
LOCATION:Campus I - Diamantina/MG
URL:https://portal.ufvjm.edu.br/agendas/eventos/2022/19-semana-nacional-de
 -ciencia-e-tecnologia
END:VEVENT
END:VCALENDAR
