BEGIN:VCALENDAR
VERSION:2.0
PRODID:-//Plone.org//NONSGML plone.app.event//EN
X-WR-TIMEZONE:America/Sao_Paulo
BEGIN:VEVENT
SUMMARY:10ª Semana Acadêmica de Administração - Semad 2022
DTSTART;VALUE=DATE:20221121
DTEND;VALUE=DATE:20221124
DTSTAMP;VALUE=DATE-TIME:20260423T102826Z
UID:226607051d6a4dd9bb217cdf4160b650@portal.ufvjm.edu.br
CONTACT:www.even3.com.br/10-semad-ufvjm-291210/
CREATED;VALUE=DATE-TIME:20221118T204920Z
DESCRIPTION:21 a 23 de novembro
LAST-MODIFIED;VALUE=DATE-TIME:20250402T175530Z
LOCATION:Campus do Mucuri - Teófilo Otoni/MG
URL:https://portal.ufvjm.edu.br/agendas/eventos/2022/10-semana-academica-d
 e-administracao-semad-2022
END:VEVENT
END:VCALENDAR
