BEGIN:VCALENDAR
VERSION:2.0
PRODID:-//Plone.org//NONSGML plone.app.event//EN
X-WR-TIMEZONE:America/Sao_Paulo
BEGIN:VEVENT
SUMMARY:1º Encontro Pedagógico de Docentes
DTSTART;TZID=America/Sao_Paulo;VALUE=DATE-TIME:20230111T143000
DTEND;TZID=America/Sao_Paulo;VALUE=DATE-TIME:20230111T181500
DTSTAMP;VALUE=DATE-TIME:20260423T183606Z
UID:2215cd853b004dd99d4384dbd2deca1b@portal.ufvjm.edu.br
CONTACT:https://docs.google.com/forms/d/1XtOgqc_DXCxMi-5vIYMcYffLGRWhHBvhL
 on2nSnh8xE/viewform?edit_requested=true
CREATED;VALUE=DATE-TIME:20221201T125406Z
DESCRIPTION:11 de janeiro
LAST-MODIFIED;VALUE=DATE-TIME:20250402T175536Z
LOCATION:Campus do Mucuri
URL:https://portal.ufvjm.edu.br/agendas/eventos/2022/1-encontro-pedagogico
 -de-docentes-no-campus-do-mucuri
END:VEVENT
BEGIN:VTIMEZONE
TZID:America/Sao_Paulo
X-LIC-LOCATION:America/Sao_Paulo
BEGIN:DAYLIGHT
DTSTART;VALUE=DATE-TIME:20221016T010000
TZNAME:BRST
TZOFFSETFROM:-0300
TZOFFSETTO:-0200
END:DAYLIGHT
END:VTIMEZONE
END:VCALENDAR
