BEGIN:VCALENDAR
VERSION:2.0
PRODID:-//Plone.org//NONSGML plone.app.event//EN
X-WR-TIMEZONE:America/Sao_Paulo
BEGIN:VEVENT
SUMMARY:Live de lançamento do Livro de Atividades para a promoção da Al
 imentação Saudável
DTSTART;TZID=America/Sao_Paulo;VALUE=DATE-TIME:20211006T190000
DTSTAMP;VALUE=DATE-TIME:20260423T202807Z
UID:79729172efd54c7fbd9a1f4a9a8d9356@portal.ufvjm.edu.br
CONTACT:https://www.youtube.com/channel/UC7YeaSYdN0Bl2ly88R27dxg
CREATED;VALUE=DATE-TIME:20210928T153145Z
DESCRIPTION:6 de outubro
LAST-MODIFIED;VALUE=DATE-TIME:20250402T180951Z
LOCATION:Evento on-line
URL:https://portal.ufvjm.edu.br/agendas/eventos/2021/live-de-lancamento-do
 -livro-de-atividades-para-a-promocao-da-alimentacao-saudavel
END:VEVENT
BEGIN:VTIMEZONE
TZID:America/Sao_Paulo
X-LIC-LOCATION:America/Sao_Paulo
BEGIN:STANDARD
DTSTART;VALUE=DATE-TIME:20210220T230000
TZNAME:BRT
TZOFFSETFROM:-0200
TZOFFSETTO:-0300
END:STANDARD
END:VTIMEZONE
END:VCALENDAR
