BEGIN:VCALENDAR
VERSION:2.0
PRODID:-//Plone.org//NONSGML plone.app.event//EN
X-WR-TIMEZONE:America/Sao_Paulo
BEGIN:VEVENT
SUMMARY:Live: Abertura do Programa Institucional de Inovação Tecnológic
 a na UFVJM
DTSTART;TZID=America/Sao_Paulo;VALUE=DATE-TIME:20210709T100000
DTSTAMP;VALUE=DATE-TIME:20260423T220809Z
UID:6b0164e0bbf64e82a0adfe3b34eed3e1@portal.ufvjm.edu.br
CONTACT:www.youtube.com/watch?v=_8WxOM8zp3o
CREATED;VALUE=DATE-TIME:20210708T163922Z
DESCRIPTION:9 de julho
LAST-MODIFIED;VALUE=DATE-TIME:20250402T180856Z
LOCATION:Evento on-line
URL:https://portal.ufvjm.edu.br/agendas/eventos/2021/live-abertura-do-prog
 rama-institucional-de-inovacao-tecnologica-na-ufvjm
END:VEVENT
BEGIN:VTIMEZONE
TZID:America/Sao_Paulo
X-LIC-LOCATION:America/Sao_Paulo
BEGIN:STANDARD
DTSTART;VALUE=DATE-TIME:20210220T230000
TZNAME:BRT
TZOFFSETFROM:-0200
TZOFFSETTO:-0300
END:STANDARD
END:VTIMEZONE
END:VCALENDAR
