BEGIN:VCALENDAR
VERSION:2.0
PRODID:-//Plone.org//NONSGML plone.app.event//EN
X-WR-TIMEZONE:America/Sao_Paulo
BEGIN:VEVENT
SUMMARY:Lançamento do livro Saberes e Sabores: alimentação e saúde de 
 comunidades tradicionais brasileiras
DTSTART;TZID=America/Sao_Paulo;VALUE=DATE-TIME:20211015T163000
DTSTAMP;VALUE=DATE-TIME:20260423T202753Z
UID:419b7ef3cb58408dbf660cfa3e3f3a3a@portal.ufvjm.edu.br
CONTACT:https://meet.jit.si/Encontros
CREATED;VALUE=DATE-TIME:20211014T203329Z
DESCRIPTION:15 de outubro
LAST-MODIFIED;VALUE=DATE-TIME:20250402T180953Z
LOCATION:Evento on-line
URL:https://portal.ufvjm.edu.br/agendas/eventos/2021/lancamento-do-livro-s
 aberes-e-sabores-alimentacao-e-saude-de-comunidades-tradicionais-brasileir
 as
END:VEVENT
BEGIN:VTIMEZONE
TZID:America/Sao_Paulo
X-LIC-LOCATION:America/Sao_Paulo
BEGIN:STANDARD
DTSTART;VALUE=DATE-TIME:20210220T230000
TZNAME:BRT
TZOFFSETFROM:-0200
TZOFFSETTO:-0300
END:STANDARD
END:VTIMEZONE
END:VCALENDAR
