BEGIN:VCALENDAR
VERSION:2.0
PRODID:-//Plone.org//NONSGML plone.app.event//EN
X-WR-TIMEZONE:America/Sao_Paulo
BEGIN:VEVENT
SUMMARY:Lançamento da segunda edição do jornal Vozes Femininas
DTSTART;TZID=America/Sao_Paulo;VALUE=DATE-TIME:20211030T150000
DTSTAMP;VALUE=DATE-TIME:20260424T201022Z
UID:f5c9eb004fe9492782b767383515e83e@portal.ufvjm.edu.br
CONTACT:https://www.youtube.com/watch?v=QJ69IM4ee6w
CREATED;VALUE=DATE-TIME:20211029T145615Z
DESCRIPTION:30 de outubro
LAST-MODIFIED;VALUE=DATE-TIME:20250402T181003Z
LOCATION:Evento on-line
URL:https://portal.ufvjm.edu.br/agendas/eventos/2021/lancamento-da-segunda
 -edicao-do-jornal-vozes-femininas
END:VEVENT
BEGIN:VTIMEZONE
TZID:America/Sao_Paulo
X-LIC-LOCATION:America/Sao_Paulo
BEGIN:DAYLIGHT
DTSTART;VALUE=DATE-TIME:20211017T010000
TZNAME:BRST
TZOFFSETFROM:-0300
TZOFFSETTO:-0200
END:DAYLIGHT
END:VTIMEZONE
END:VCALENDAR
