BEGIN:VCALENDAR
VERSION:2.0
PRODID:-//Plone.org//NONSGML plone.app.event//EN
X-WR-TIMEZONE:America/Sao_Paulo
BEGIN:VEVENT
SUMMARY:Formação docente em contexto pandêmico: orientações e reflex
 ões sobre as práticas possíveis
DTSTART;VALUE=DATE:20210708
DTEND;VALUE=DATE:20210709
DTSTAMP;VALUE=DATE-TIME:20260423T074954Z
UID:333571efc20d47d586208ef211cf4d57@portal.ufvjm.edu.br
CONTACT:https://www.youtube.com/watch?v=9t_HDpfHpUs
CREATED;VALUE=DATE-TIME:20210701T200719Z
DESCRIPTION:8 de julho
LAST-MODIFIED;VALUE=DATE-TIME:20250402T180852Z
LOCATION:Evento on-line
URL:https://portal.ufvjm.edu.br/agendas/eventos/2021/formacao-docente-em-c
 ontexto-pandemico-orientacoes-e-reflexoes-sobre-as-praticas-possiveis
END:VEVENT
END:VCALENDAR
