BEGIN:VCALENDAR
VERSION:2.0
PRODID:-//Plone.org//NONSGML plone.app.event//EN
X-WR-TIMEZONE:America/Sao_Paulo
BEGIN:VEVENT
SUMMARY:Estreia do Programa Prosa de Cultura
DTSTART;VALUE=DATE:20210317
DTEND;VALUE=DATE:20210318
DTSTAMP;VALUE=DATE-TIME:20260424T045040Z
UID:050a514b344c49d08fb86d3cd5819f05@portal.ufvjm.edu.br
CONTACT:https://www.youtube.com/channel/UCvQBccCRN9PD60lc2lNQjsw
CREATED;VALUE=DATE-TIME:20210316T191512Z
DESCRIPTION:17 de março
LAST-MODIFIED;VALUE=DATE-TIME:20250402T180806Z
LOCATION:Evento on-line
URL:https://portal.ufvjm.edu.br/agendas/eventos/2021/estreia-do-programa-p
 rosa-de-cultura
END:VEVENT
END:VCALENDAR
