BEGIN:VCALENDAR
VERSION:2.0
PRODID:-//Plone.org//NONSGML plone.app.event//EN
X-WR-TIMEZONE:America/Sao_Paulo
BEGIN:VEVENT
SUMMARY:Aula Inaugural da FIH
DTSTART;TZID=America/Sao_Paulo;VALUE=DATE-TIME:20210629T190000
DTSTAMP;VALUE=DATE-TIME:20260423T230628Z
UID:c306efe267334738bbe778b7609c9b8d@portal.ufvjm.edu.br
CONTACT:www.youtube.com/channel/UCiKxnt-x1vI1emffT8gTq0A/featured
CREATED;VALUE=DATE-TIME:20210625T171723Z
DESCRIPTION:29 de junho
LAST-MODIFIED;VALUE=DATE-TIME:20250402T180847Z
LOCATION:Evento on-line
URL:https://portal.ufvjm.edu.br/agendas/eventos/2021/aula-inaugural-da-fih
END:VEVENT
BEGIN:VTIMEZONE
TZID:America/Sao_Paulo
X-LIC-LOCATION:America/Sao_Paulo
BEGIN:STANDARD
DTSTART;VALUE=DATE-TIME:20210220T230000
TZNAME:BRT
TZOFFSETFROM:-0200
TZOFFSETTO:-0300
END:STANDARD
END:VTIMEZONE
END:VCALENDAR
