BEGIN:VCALENDAR
VERSION:2.0
PRODID:-//Plone.org//NONSGML plone.app.event//EN
X-WR-TIMEZONE:America/Sao_Paulo
BEGIN:VEVENT
SUMMARY:Aula inaugural da Fammuc
DTSTART;TZID=America/Sao_Paulo;VALUE=DATE-TIME:20210714T140000
DTSTAMP;VALUE=DATE-TIME:20260424T000240Z
UID:60fe07e64b124a82bb43f3f3e29b1daf@portal.ufvjm.edu.br
CONTACT:www.youtube.com/channel/UCGbCfQeMlEaJQNPFJR3Mewg
CREATED;VALUE=DATE-TIME:20210708T191123Z
DESCRIPTION:14 de julho
LAST-MODIFIED;VALUE=DATE-TIME:20250402T180857Z
LOCATION:Evento on-line
URL:https://portal.ufvjm.edu.br/agendas/eventos/2021/aula-inaugural-da-fam
 muc
END:VEVENT
BEGIN:VTIMEZONE
TZID:America/Sao_Paulo
X-LIC-LOCATION:America/Sao_Paulo
BEGIN:STANDARD
DTSTART;VALUE=DATE-TIME:20210220T230000
TZNAME:BRT
TZOFFSETFROM:-0200
TZOFFSETTO:-0300
END:STANDARD
END:VTIMEZONE
END:VCALENDAR
