BEGIN:VCALENDAR
VERSION:2.0
PRODID:-//Plone.org//NONSGML plone.app.event//EN
X-WR-TIMEZONE:America/Sao_Paulo
BEGIN:VEVENT
SUMMARY:Adaptabilidade e Conexões
DTSTART;VALUE=DATE:20210209
DTEND;VALUE=DATE:20210212
DTSTAMP;VALUE=DATE-TIME:20260423T204401Z
UID:46f2d504e1bb47e5a3d920864c5354b1@portal.ufvjm.edu.br
CONTACT:https://www.youtube.com/channel/UC-jEvLUGw5sw4FxvRXWDIsA/videos
CREATED;VALUE=DATE-TIME:20210209T190538Z
DESCRIPTION:9 a 11 de fevereiro
LAST-MODIFIED;VALUE=DATE-TIME:20250402T180759Z
LOCATION:Evento on-line
URL:https://portal.ufvjm.edu.br/agendas/eventos/2021/adaptabilidade-e-cone
 xoes
END:VEVENT
END:VCALENDAR
