BEGIN:VCALENDAR
VERSION:2.0
PRODID:-//Plone.org//NONSGML plone.app.event//EN
X-WR-TIMEZONE:America/Sao_Paulo
BEGIN:VEVENT
SUMMARY:9º Seminário Ensino em Saúde
DTSTART;VALUE=DATE:20210322
DTEND;VALUE=DATE:20210324
DTSTAMP;VALUE=DATE-TIME:20260425T144002Z
UID:7679ab1361d944c0a82c711605f5afb3@portal.ufvjm.edu.br
CONTACT:https://www.even3.com.br/ixseminarioensa/
CREATED;VALUE=DATE-TIME:20210322T143807Z
DESCRIPTION:22 e 23 de abril
LAST-MODIFIED;VALUE=DATE-TIME:20250402T180807Z
LOCATION:Evento on-line
URL:https://portal.ufvjm.edu.br/agendas/eventos/2021/9-seminario-ensino-em
 -saude
END:VEVENT
END:VCALENDAR
