BEGIN:VCALENDAR
VERSION:2.0
PRODID:-//Plone.org//NONSGML plone.app.event//EN
X-WR-TIMEZONE:America/Sao_Paulo
BEGIN:VEVENT
SUMMARY:8ª edição da Semana da Integração: Ensino\, Pesquisa e Extens
 ão (Sintegra) da UFVJM
DTSTART;VALUE=DATE:20211201
DTEND;VALUE=DATE:20211204
DTSTAMP;VALUE=DATE-TIME:20260423T202631Z
UID:26ac4416e86a4c12a545c74ad5617f35@portal.ufvjm.edu.br
CONTACT:http://www.even3.com.br/viiisintegraufvjm
CREATED;VALUE=DATE-TIME:20211018T203951Z
DESCRIPTION:1º a 3 de dezembro
LAST-MODIFIED;VALUE=DATE-TIME:20250402T180954Z
LOCATION:Evento on-line
URL:https://portal.ufvjm.edu.br/agendas/eventos/2021/8-edicao-da-semana-da
 -integracao-ensino-pesquisa-e-extensao-sintegra-da-ufvjm
END:VEVENT
END:VCALENDAR
