BEGIN:VCALENDAR
VERSION:2.0
PRODID:-//Plone.org//NONSGML plone.app.event//EN
X-WR-TIMEZONE:America/Sao_Paulo
BEGIN:VEVENT
SUMMARY:4º Novembro Negro da UFVJM
DTSTART;VALUE=DATE:20211118
DTEND;VALUE=DATE:20211210
DTSTAMP;VALUE=DATE-TIME:20260423T184749Z
UID:55ee57b7ad22420fbc281cf7abdc9018@portal.ufvjm.edu.br
CREATED;VALUE=DATE-TIME:20211124T171001Z
DESCRIPTION:18 de novembro a 9 de dezembro
LAST-MODIFIED;VALUE=DATE-TIME:20250402T181011Z
LOCATION:Evento on-line
URL:https://portal.ufvjm.edu.br/agendas/eventos/2021/4-novembro-negro-da-u
 fvjm
END:VEVENT
END:VCALENDAR
