BEGIN:VCALENDAR
VERSION:2.0
PRODID:-//Plone.org//NONSGML plone.app.event//EN
X-WR-TIMEZONE:America/Sao_Paulo
BEGIN:VEVENT
SUMMARY:4º Congresso Nacional em Educação (Coned) da UFVJM
DTSTART;TZID=America/Sao_Paulo;VALUE=DATE-TIME:20210915T080000
DTEND;TZID=America/Sao_Paulo;VALUE=DATE-TIME:20210917T180000
DTSTAMP;VALUE=DATE-TIME:20260423T202352Z
UID:618f2e5da139481fa0b81a41612f66c7@portal.ufvjm.edu.br
CONTACT:https://doity.com.br/ivconed
CREATED;VALUE=DATE-TIME:20210428T184902Z
DESCRIPTION:15 a 17 de setembro
LAST-MODIFIED;VALUE=DATE-TIME:20250402T180818Z
LOCATION:Evento on-line
URL:https://portal.ufvjm.edu.br/agendas/eventos/2021/4-congresso-nacional-
 em-educacao-coned-da-ufvjm
END:VEVENT
BEGIN:VTIMEZONE
TZID:America/Sao_Paulo
X-LIC-LOCATION:America/Sao_Paulo
BEGIN:STANDARD
DTSTART;VALUE=DATE-TIME:20210220T230000
TZNAME:BRT
TZOFFSETFROM:-0200
TZOFFSETTO:-0300
END:STANDARD
END:VTIMEZONE
END:VCALENDAR
