BEGIN:VCALENDAR
VERSION:2.0
PRODID:-//Plone.org//NONSGML plone.app.event//EN
X-WR-TIMEZONE:America/Sao_Paulo
BEGIN:VEVENT
SUMMARY:3º Encontro de Iniciação à Docência
DTSTART;TZID=America/Sao_Paulo;VALUE=DATE-TIME:20210929T190000
DTSTAMP;VALUE=DATE-TIME:20260422T131050Z
UID:dfa797118f80422f853ba51762e14727@portal.ufvjm.edu.br
CONTACT:https://www.youtube.com/c/quimicaufvjm/live
CREATED;VALUE=DATE-TIME:20210929T180555Z
DESCRIPTION:29 de setembro
LAST-MODIFIED;VALUE=DATE-TIME:20250402T180952Z
LOCATION:Evento on-line
URL:https://portal.ufvjm.edu.br/agendas/eventos/2021/3-encontro-de-iniciac
 ao-a-docencia
END:VEVENT
BEGIN:VTIMEZONE
TZID:America/Sao_Paulo
X-LIC-LOCATION:America/Sao_Paulo
BEGIN:STANDARD
DTSTART;VALUE=DATE-TIME:20210220T230000
TZNAME:BRT
TZOFFSETFROM:-0200
TZOFFSETTO:-0300
END:STANDARD
END:VTIMEZONE
END:VCALENDAR
