BEGIN:VCALENDAR
VERSION:2.0
PRODID:-//Plone.org//NONSGML plone.app.event//EN
X-WR-TIMEZONE:America/Sao_Paulo
BEGIN:VEVENT
SUMMARY:2º Seminário Nacional do fHist
DTSTART;VALUE=DATE:20211021
DTEND;VALUE=DATE:20211023
DTSTAMP;VALUE=DATE-TIME:20260424T020308Z
UID:6da4ec0def30440ab399989e03dc2189@portal.ufvjm.edu.br
CONTACT:https://festivaldehistoria.com.br/fhist2021/
CREATED;VALUE=DATE-TIME:20210827T231214Z
DESCRIPTION:21 e 22 de outubro
LAST-MODIFIED;VALUE=DATE-TIME:20250402T180942Z
LOCATION:Evento on-line
URL:https://portal.ufvjm.edu.br/agendas/eventos/2021/2-seminario-nacional-
 do-fhist
END:VEVENT
END:VCALENDAR
