BEGIN:VCALENDAR
VERSION:2.0
PRODID:-//Plone.org//NONSGML plone.app.event//EN
X-WR-TIMEZONE:America/Sao_Paulo
BEGIN:VEVENT
SUMMARY:13ª edição do projeto "Literatura e Feminismos"
DTSTART;VALUE=DATE:20210925
DTEND;VALUE=DATE:20210926
DTSTAMP;VALUE=DATE-TIME:20260423T184244Z
UID:1748869f9cf44cc4b3b5afec9c089f4c@portal.ufvjm.edu.br
CONTACT:https://www.youtube.com/watch?v=Dd71U4YG9-A
CREATED;VALUE=DATE-TIME:20210924T171738Z
DESCRIPTION:25 de setembro
LAST-MODIFIED;VALUE=DATE-TIME:20250402T180949Z
LOCATION:Evento on-line
URL:https://portal.ufvjm.edu.br/agendas/eventos/2021/13-edicao-do-projeto-
 literatura-e-feminismos
END:VEVENT
END:VCALENDAR
