BEGIN:VCALENDAR
VERSION:2.0
PRODID:-//Plone.org//NONSGML plone.app.event//EN
X-WR-TIMEZONE:America/Sao_Paulo
BEGIN:VEVENT
SUMMARY:11º Encontro Internacional de Informação\, Conhecimento e Açã
 o
DTSTART;VALUE=DATE:20210316
DTEND;VALUE=DATE:20210320
DTSTAMP;VALUE=DATE-TIME:20260423T234254Z
UID:1109440c49364cc7b4f8cd2da98fad63@portal.ufvjm.edu.br
CONTACT:https://doity.com.br/eiica2021/
CREATED;VALUE=DATE-TIME:20210201T224531Z
DESCRIPTION:16 a 19 de março
LAST-MODIFIED;VALUE=DATE-TIME:20250402T180757Z
LOCATION:Evento on-line
URL:https://portal.ufvjm.edu.br/agendas/eventos/2021/11-encontro-internaci
 onal-de-informacao-conhecimento-e-acao
END:VEVENT
END:VCALENDAR
