BEGIN:VCALENDAR
VERSION:2.0
PRODID:-//Plone.org//NONSGML plone.app.event//EN
X-WR-TIMEZONE:America/Sao_Paulo
BEGIN:VEVENT
SUMMARY:1ª Recepção de calouros oriundos das comunidades rurais\, quilo
 mbolas e de estudantes de raça/cor da pele negra da UFVJM
DTSTART;TZID=America/Sao_Paulo;VALUE=DATE-TIME:20210225T121500
DTEND;TZID=America/Sao_Paulo;VALUE=DATE-TIME:20210225T134500
DTSTAMP;VALUE=DATE-TIME:20260423T202831Z
UID:0e4477829b0442a4a9db71a4031382a6@portal.ufvjm.edu.br
CONTACT:https://meet.google.com/fdm-ekyt-zca
CREATED;VALUE=DATE-TIME:20210219T201429Z
DESCRIPTION:25 de fevereiro
LAST-MODIFIED;VALUE=DATE-TIME:20250402T180800Z
LOCATION:Evento on-line
URL:https://portal.ufvjm.edu.br/agendas/eventos/2021/1-recepcao-de-calouro
 s-oriundos-das-comunidades-rurais-quilombolas-e-de-estudantes-de-raca-cor-
 da-pele-negra-da-ufvjm
END:VEVENT
BEGIN:VTIMEZONE
TZID:America/Sao_Paulo
X-LIC-LOCATION:America/Sao_Paulo
BEGIN:STANDARD
DTSTART;VALUE=DATE-TIME:20210220T230000
TZNAME:BRT
TZOFFSETFROM:-0200
TZOFFSETTO:-0300
END:STANDARD
END:VTIMEZONE
END:VCALENDAR
