BEGIN:VCALENDAR
VERSION:2.0
PRODID:-//Plone.org//NONSGML plone.app.event//EN
X-WR-TIMEZONE:America/Sao_Paulo
BEGIN:VEVENT
SUMMARY:1ª PopWeek – Semana em comemoração ao Dia da População Mund
 ial
DTSTART;VALUE=DATE:20210705
DTEND;VALUE=DATE:20210710
DTSTAMP;VALUE=DATE-TIME:20260423T074546Z
UID:1be869e8b1f946e5a07190f79443d738@portal.ufvjm.edu.br
CREATED;VALUE=DATE-TIME:20210628T180132Z
DESCRIPTION:5 a 9 de julho
LAST-MODIFIED;VALUE=DATE-TIME:20250402T180849Z
URL:https://portal.ufvjm.edu.br/agendas/eventos/2021/1-popweek
END:VEVENT
END:VCALENDAR
