BEGIN:VCALENDAR
VERSION:2.0
PRODID:-//Plone.org//NONSGML plone.app.event//EN
X-WR-TIMEZONE:America/Sao_Paulo
BEGIN:VEVENT
SUMMARY:1º GEOProvocAÇÕES
DTSTART;TZID=America/Sao_Paulo;VALUE=DATE-TIME:20211123T090000
DTEND;TZID=America/Sao_Paulo;VALUE=DATE-TIME:20211123T170000
DTSTAMP;VALUE=DATE-TIME:20260424T005601Z
UID:0a4445c59a9941599b59ef2d9ab719bd@portal.ufvjm.edu.br
CONTACT:https://geoprovocacoes.wixsite.com/ppggeo
CREATED;VALUE=DATE-TIME:20211122T211448Z
DESCRIPTION:23 de novembro
LAST-MODIFIED;VALUE=DATE-TIME:20250402T181010Z
LOCATION:Evento on-line
URL:https://portal.ufvjm.edu.br/agendas/eventos/2021/1-geoprovocacoes
END:VEVENT
BEGIN:VTIMEZONE
TZID:America/Sao_Paulo
X-LIC-LOCATION:America/Sao_Paulo
BEGIN:DAYLIGHT
DTSTART;VALUE=DATE-TIME:20211017T010000
TZNAME:BRST
TZOFFSETFROM:-0300
TZOFFSETTO:-0200
END:DAYLIGHT
END:VTIMEZONE
END:VCALENDAR
